BEGIN:VCALENDAR
VERSION:2.0
PRODID:-//Jóvenes Occidente de Boyacá - ECPv6.6.2//NONSGML v1.0//EN
CALSCALE:GREGORIAN
METHOD:PUBLISH
X-WR-CALNAME:Jóvenes Occidente de Boyacá
X-ORIGINAL-URL:https://jovenesoccidentedeboyaca.com
X-WR-CALDESC:Eventos para Jóvenes Occidente de Boyacá
REFRESH-INTERVAL;VALUE=DURATION:PT1H
X-Robots-Tag:noindex
X-PUBLISHED-TTL:PT1H
BEGIN:VTIMEZONE
TZID:America/New_York
BEGIN:DAYLIGHT
TZOFFSETFROM:-0500
TZOFFSETTO:-0400
TZNAME:EDT
DTSTART:20240310T070000
END:DAYLIGHT
BEGIN:STANDARD
TZOFFSETFROM:-0400
TZOFFSETTO:-0500
TZNAME:EST
DTSTART:20241103T060000
END:STANDARD
BEGIN:DAYLIGHT
TZOFFSETFROM:-0500
TZOFFSETTO:-0400
TZNAME:EDT
DTSTART:20250309T070000
END:DAYLIGHT
BEGIN:STANDARD
TZOFFSETFROM:-0400
TZOFFSETTO:-0500
TZNAME:EST
DTSTART:20251102T060000
END:STANDARD
END:VTIMEZONE
BEGIN:VEVENT
DTSTART;VALUE=DATE:20240831
DTEND;VALUE=DATE:20240929
DTSTAMP:20260422T190408
CREATED:20240831T235253Z
LAST-MODIFIED:20240831T235253Z
UID:131-1725062400-1727567999@jovenesoccidentedeboyaca.com
SUMMARY:Sesión Descentralizada del Consejo Departamental de Juventud en Occidente
DESCRIPTION:El próximo 28 de septiembre de 2024 en el municipio  de Maripi se estará llevando acabo la sesión descentralizada del consejo departamental de juventud\, se espera contar con la participación de los 15 consejeros de diferentes provincias del departamento de Boyacá.
URL:https://jovenesoccidentedeboyaca.com/event/sesion-descentralizada-del-consejo-departamental-de-juventud-en-occidente/
LOCATION:Maripi\, Parque principal\, Maripi\, Boyacá\, 154820\, Colombia
CATEGORIES:Juventud,Maripi
ATTACH;FMTTYPE=image/jpeg:https://jovenesoccidentedeboyaca.com/wp-content/uploads/2024/08/Occidente.jpeg
END:VEVENT
BEGIN:VEVENT
DTSTART;TZID=America/New_York:20250718T080000
DTEND;TZID=America/New_York:20250718T170000
DTSTAMP:20260422T190408
CREATED:20250609T012624Z
LAST-MODIFIED:20250609T012624Z
UID:145-1752825600-1752858000@jovenesoccidentedeboyaca.com
SUMMARY:Asamblea Departamental
DESCRIPTION:Asamblea Departamental de Juventud
URL:https://jovenesoccidentedeboyaca.com/event/asamblea-departamental/
CATEGORIES:Asamblea,Juventud
ATTACH;FMTTYPE=image/png:https://jovenesoccidentedeboyaca.com/wp-content/uploads/2024/08/Captura.png
END:VEVENT
END:VCALENDAR